BEGIN:VCALENDAR
VERSION:2.0
PRODID:icalendar-ruby
CALSCALE:GREGORIAN
METHOD:PUBLISH
BEGIN:VEVENT
DTSTAMP:20260426T001919Z
UID:363-2687152@devonchurch.com
DTSTART:20261007T190000Z
DTEND:20261007T200000Z
CLASS:PUBLIC
CREATED:20260425T175108
DESCRIPTION:JOY "Just Older Youth"Connect Group\nWednesdays 1pm at the Chur
 ch\nJoin us for Lunch at noon on the Third Wednesday of each month.\nAll p
 eople over 55 are welcome to participate.\n \n 
LAST-MODIFIED:20260425T175108
LOCATION:Devon Community Church
SUMMARY:JOY Seniors Connect Group
URL;VALUE=URI:https://www.devonchurch.com/events/joy-seniors-connect-group/
 2026-10-07
ATTACH;FILENAME=JOY-Fellowship-graphic---Jan-2018.png;FMTTYPE=image/png:htt
 ps://dq5pwpg1q8ru0.cloudfront.net/2022/04/13/08/23/13/79fcce6b-6312-49db-b
 b33-791473f7fc2e/JOY-Fellowship-graphic---Jan-2018.png
END:VEVENT
END:VCALENDAR
